Package: scMerge Version: 1.23.0 Command: rm -rf scMerge.buildbin-libdir && mkdir scMerge.buildbin-libdir && /Users/biocbuild/BBS/utils/build-universal.sh scMerge_1.23.0.tar.gz /Library/Frameworks/R.framework/Resources/bin/R scMerge.buildbin-libdir StartedAt: 2025-02-18 00:45:51 -0500 (Tue, 18 Feb 2025) EndedAt: 2025-02-18 00:46:47 -0500 (Tue, 18 Feb 2025) EllapsedTime: 56.6 seconds RetCode: 0 Status: OK PackageFile: scMerge_1.23.0.tgz PackageFileSize: 3.545 MiB