Package: scMerge Version: 1.23.0 Command: /home/biocbuild/R/R/bin/R CMD INSTALL scMerge StartedAt: 2025-01-29 20:31:02 -0000 (Wed, 29 Jan 2025) EndedAt: 2025-01-29 20:31:23 -0000 (Wed, 29 Jan 2025) EllapsedTime: 20.6 seconds RetCode: 1 Status: ERROR