Package: scMerge Version: 1.23.0 Command: rm -rf scMerge.buildbin-libdir && mkdir scMerge.buildbin-libdir && /Users/biocbuild/BBS/utils/build-universal.sh scMerge_1.23.0.tar.gz /Library/Frameworks/R.framework/Resources/bin/R scMerge.buildbin-libdir StartedAt: 2025-02-17 22:32:56 -0500 (Mon, 17 Feb 2025) EndedAt: 2025-02-17 22:33:14 -0500 (Mon, 17 Feb 2025) EllapsedTime: 17.3 seconds RetCode: 0 Status: OK PackageFile: scMerge_1.23.0.tgz PackageFileSize: 3.549 MiB