Package: scMET Version: 1.9.0 Command: E:\biocbuild\bbs-3.21-bioc\R\bin\R.exe CMD check --no-multiarch --install=check:scMET.install-out.txt --library=E:\biocbuild\bbs-3.21-bioc\R\library --no-vignettes --timings scMET_1.9.0.tar.gz StartedAt: 2025-02-20 05:10:13 -0500 (Thu, 20 Feb 2025) EndedAt: 2025-02-20 05:15:28 -0500 (Thu, 20 Feb 2025) EllapsedTime: 314.7 seconds RetCode: 0 Status: OK CheckDir: scMET.Rcheck Warnings: 0