Package: scMET Version: 1.9.0 Command: /Library/Frameworks/R.framework/Resources/bin/R CMD INSTALL scMET StartedAt: 2025-02-19 15:26:34 -0500 (Wed, 19 Feb 2025) EndedAt: 2025-02-19 15:28:39 -0500 (Wed, 19 Feb 2025) EllapsedTime: 124.2 seconds RetCode: 0 Status: OK