Package: scMET Version: 1.9.0 Command: /Library/Frameworks/R.framework/Resources/bin/R CMD build --keep-empty-dirs --no-resave-data scMET StartedAt: 2025-02-19 18:09:39 -0500 (Wed, 19 Feb 2025) EndedAt: 2025-02-19 18:13:33 -0500 (Wed, 19 Feb 2025) EllapsedTime: 233.4 seconds RetCode: 0 Status: OK PackageFile: scMET_1.9.0.tar.gz PackageFileSize: 3.282 MiB