Package: scHOT Version: 1.19.0 Command: E:\biocbuild\bbs-3.21-bioc\R\bin\R.exe CMD check --no-multiarch --install=check:scHOT.install-out.txt --library=E:\biocbuild\bbs-3.21-bioc\R\library --no-vignettes --timings scHOT_1.19.0.tar.gz StartedAt: 2025-02-19 05:01:58 -0500 (Wed, 19 Feb 2025) EndedAt: 2025-02-19 05:07:03 -0500 (Wed, 19 Feb 2025) EllapsedTime: 304.9 seconds RetCode: 0 Status: OK CheckDir: scHOT.Rcheck Warnings: 0