Package: scHOT Version: 1.19.0 Command: chmod a+r scHOT -R && E:\biocbuild\bbs-3.21-bioc\R\bin\R.exe CMD build --keep-empty-dirs --no-resave-data scHOT StartedAt: 2025-02-18 21:23:09 -0500 (Tue, 18 Feb 2025) EndedAt: 2025-02-18 21:26:45 -0500 (Tue, 18 Feb 2025) EllapsedTime: 215.4 seconds RetCode: 0 Status: OK PackageFile: scHOT_1.19.0.tar.gz PackageFileSize: 1.859 MiB