Package: scHOT Version: 1.19.0 Command: /Library/Frameworks/R.framework/Resources/bin/R CMD INSTALL scHOT StartedAt: 2025-02-20 15:14:02 -0500 (Thu, 20 Feb 2025) EndedAt: 2025-02-20 15:14:39 -0500 (Thu, 20 Feb 2025) EllapsedTime: 36.9 seconds RetCode: 0 Status: OK