Package: scHOT Version: 1.19.0 Command: /Library/Frameworks/R.framework/Resources/bin/R CMD build --keep-empty-dirs --no-resave-data scHOT StartedAt: 2025-02-20 18:08:42 -0500 (Thu, 20 Feb 2025) EndedAt: 2025-02-20 18:11:18 -0500 (Thu, 20 Feb 2025) EllapsedTime: 156.1 seconds RetCode: 0 Status: OK PackageFile: scHOT_1.19.0.tar.gz PackageFileSize: 2.314 MiB