Package: scGPS Version: 1.21.0 Command: chmod a+r scGPS -R && E:\biocbuild\bbs-3.21-bioc\R\bin\R.exe CMD build --keep-empty-dirs --no-resave-data scGPS StartedAt: 2025-02-19 21:27:30 -0500 (Wed, 19 Feb 2025) EndedAt: 2025-02-19 21:35:36 -0500 (Wed, 19 Feb 2025) EllapsedTime: 486.4 seconds RetCode: 0 Status: OK PackageFile: scGPS_1.21.0.tar.gz PackageFileSize: 1.909 MiB