Package: scGPS Version: 1.21.0 Command: /home/biocbuild/bbs-3.21-bioc/R/bin/R CMD INSTALL scGPS StartedAt: 2025-02-19 15:21:47 -0500 (Wed, 19 Feb 2025) EndedAt: 2025-02-19 15:22:40 -0500 (Wed, 19 Feb 2025) EllapsedTime: 52.9 seconds RetCode: 0 Status: OK