Package: scGPS Version: 1.21.0 Command: /Library/Frameworks/R.framework/Resources/bin/R CMD INSTALL scGPS StartedAt: 2025-02-19 15:36:30 -0500 (Wed, 19 Feb 2025) EndedAt: 2025-02-19 15:37:36 -0500 (Wed, 19 Feb 2025) EllapsedTime: 66.4 seconds RetCode: 0 Status: OK