Package: scGPS Version: 1.21.0 Command: /Library/Frameworks/R.framework/Resources/bin/R CMD build --keep-empty-dirs --no-resave-data scGPS StartedAt: 2025-02-19 18:08:39 -0500 (Wed, 19 Feb 2025) EndedAt: 2025-02-19 18:15:45 -0500 (Wed, 19 Feb 2025) EllapsedTime: 426.2 seconds RetCode: 0 Status: OK PackageFile: scGPS_1.21.0.tar.gz PackageFileSize: 2.029 MiB