Package: scGPS Version: 1.21.0 Command: /Library/Frameworks/R.framework/Resources/bin/R CMD check --install=check:scGPS.install-out.txt --library=/Library/Frameworks/R.framework/Resources/library --no-vignettes --timings scGPS_1.21.0.tar.gz StartedAt: 2025-02-19 21:19:13 -0500 (Wed, 19 Feb 2025) EndedAt: 2025-02-19 21:21:55 -0500 (Wed, 19 Feb 2025) EllapsedTime: 161.9 seconds RetCode: 0 Status: OK CheckDir: scGPS.Rcheck Warnings: 0