Package: scGPS Version: 1.21.0 Command: /Library/Frameworks/R.framework/Resources/bin/R CMD build --keep-empty-dirs --no-resave-data scGPS StartedAt: 2025-02-19 17:32:44 -0500 (Wed, 19 Feb 2025) EndedAt: 2025-02-19 17:34:59 -0500 (Wed, 19 Feb 2025) EllapsedTime: 134.5 seconds RetCode: 0 Status: OK PackageFile: scGPS_1.21.0.tar.gz PackageFileSize: 2.033 MiB