Package: scFeatures Version: 1.7.0 Command: E:\biocbuild\bbs-3.21-bioc\R\bin\R.exe CMD INSTALL scFeatures StartedAt: 2025-02-18 16:50:02 -0500 (Tue, 18 Feb 2025) EndedAt: 2025-02-18 16:51:25 -0500 (Tue, 18 Feb 2025) EllapsedTime: 83.1 seconds RetCode: 0 Status: OK