Package: scFeatures Version: 1.7.0 Command: /Library/Frameworks/R.framework/Resources/bin/R CMD build --keep-empty-dirs --no-resave-data scFeatures StartedAt: 2025-02-18 17:33:46 -0500 (Tue, 18 Feb 2025) EndedAt: 2025-02-18 17:34:30 -0500 (Tue, 18 Feb 2025) EllapsedTime: 43.5 seconds RetCode: 0 Status: OK PackageFile: scFeatures_1.7.0.tar.gz PackageFileSize: 2.928 MiB