Package: scDotPlot Version: 1.1.0 Command: E:\biocbuild\bbs-3.21-bioc\R\bin\R.exe CMD INSTALL scDotPlot StartedAt: 2025-02-19 16:59:03 -0500 (Wed, 19 Feb 2025) EndedAt: 2025-02-19 16:59:47 -0500 (Wed, 19 Feb 2025) EllapsedTime: 44.3 seconds RetCode: 0 Status: OK