Package: scDotPlot Version: 1.2.1 Command: /Library/Frameworks/R.framework/Resources/bin/R CMD INSTALL scDotPlot StartedAt: 2025-10-13 16:41:14 -0400 (Mon, 13 Oct 2025) EndedAt: 2025-10-13 16:42:43 -0400 (Mon, 13 Oct 2025) EllapsedTime: 88.3 seconds RetCode: 0 Status: OK