Package: scDotPlot Version: 1.1.0 Command: /Library/Frameworks/R.framework/Resources/bin/R CMD INSTALL scDotPlot StartedAt: 2025-02-19 15:43:22 -0500 (Wed, 19 Feb 2025) EndedAt: 2025-02-19 15:44:15 -0500 (Wed, 19 Feb 2025) EllapsedTime: 52.7 seconds RetCode: 0 Status: OK