Package: scDiagnostics Version: 1.1.0 Command: E:\biocbuild\bbs-3.21-bioc\R\bin\R.exe CMD INSTALL scDiagnostics StartedAt: 2025-02-18 16:16:35 -0500 (Tue, 18 Feb 2025) EndedAt: 2025-02-18 16:17:53 -0500 (Tue, 18 Feb 2025) EllapsedTime: 78.2 seconds RetCode: 0 Status: OK