Package: scDiagnostics Version: 1.1.0 Command: E:\biocbuild\bbs-3.21-bioc\R\bin\R.exe CMD check --no-multiarch --install=check:scDiagnostics.install-out.txt --library=E:\biocbuild\bbs-3.21-bioc\R\library --no-vignettes --timings scDiagnostics_1.1.0.tar.gz StartedAt: 2025-02-19 04:58:05 -0500 (Wed, 19 Feb 2025) EndedAt: 2025-02-19 05:06:18 -0500 (Wed, 19 Feb 2025) EllapsedTime: 493.1 seconds RetCode: 0 Status: OK CheckDir: scDiagnostics.Rcheck Warnings: 0