Package: scDiagnostics Version: 1.1.0 Command: /Library/Frameworks/R.framework/Resources/bin/R CMD build --keep-empty-dirs --no-resave-data scDiagnostics StartedAt: 2025-02-18 17:33:13 -0500 (Tue, 18 Feb 2025) EndedAt: 2025-02-18 17:34:38 -0500 (Tue, 18 Feb 2025) EllapsedTime: 84.9 seconds RetCode: 0 Status: OK PackageFile: scDiagnostics_1.1.0.tar.gz PackageFileSize: 3.62 MiB