Package: scDiagnostics Version: 1.1.0 Command: rm -rf scDiagnostics.buildbin-libdir && mkdir scDiagnostics.buildbin-libdir && /Users/biocbuild/BBS/utils/build-universal.sh scDiagnostics_1.1.0.tar.gz /Library/Frameworks/R.framework/Resources/bin/R scDiagnostics.buildbin-libdir StartedAt: 2025-02-18 22:36:56 -0500 (Tue, 18 Feb 2025) EndedAt: 2025-02-18 22:37:08 -0500 (Tue, 18 Feb 2025) EllapsedTime: 12.2 seconds RetCode: 0 Status: OK PackageFile: scDiagnostics_1.1.0.tgz PackageFileSize: 3.816 MiB