Package: scDesign3 Version: 1.6.0 Command: /Library/Frameworks/R.framework/Resources/bin/R CMD build --keep-empty-dirs --no-resave-data scDesign3 StartedAt: 2025-10-14 08:40:57 -0400 (Tue, 14 Oct 2025) EndedAt: 2025-10-14 08:41:21 -0400 (Tue, 14 Oct 2025) EllapsedTime: 23.8 seconds RetCode: 1 Status: ERROR PackageFile: None PackageFileSize: NA