Package: scDataviz Version: 1.17.0 Command: /home/biocbuild/bbs-3.21-bioc/R/bin/R CMD check --install=check:scDataviz.install-out.txt --library=/home/biocbuild/bbs-3.21-bioc/R/site-library --timings scDataviz_1.17.0.tar.gz StartedAt: 2025-02-18 01:53:22 -0500 (Tue, 18 Feb 2025) EndedAt: 2025-02-18 02:01:33 -0500 (Tue, 18 Feb 2025) EllapsedTime: 491.5 seconds RetCode: 0 Status: OK CheckDir: scDataviz.Rcheck Warnings: 0