Package: scDataviz Version: 1.17.0 Command: /Library/Frameworks/R.framework/Resources/bin/R CMD check --install=check:scDataviz.install-out.txt --library=/Library/Frameworks/R.framework/Resources/library --no-vignettes --timings scDataviz_1.17.0.tar.gz StartedAt: 2025-02-17 21:13:01 -0500 (Mon, 17 Feb 2025) EndedAt: 2025-02-17 21:14:41 -0500 (Mon, 17 Feb 2025) EllapsedTime: 100.1 seconds RetCode: 0 Status: OK CheckDir: scDataviz.Rcheck Warnings: 0