Package: scDataviz Version: 1.17.0 Command: rm -rf scDataviz.buildbin-libdir && mkdir scDataviz.buildbin-libdir && /Users/biocbuild/BBS/utils/build-universal.sh scDataviz_1.17.0.tar.gz /Library/Frameworks/R.framework/Resources/bin/R scDataviz.buildbin-libdir StartedAt: 2025-02-17 22:32:33 -0500 (Mon, 17 Feb 2025) EndedAt: 2025-02-17 22:32:50 -0500 (Mon, 17 Feb 2025) EllapsedTime: 17.3 seconds RetCode: 0 Status: OK PackageFile: scDataviz_1.17.0.tgz PackageFileSize: 5.982 MiB