Package: scDataviz Version: 1.18.0 Command: /Library/Frameworks/R.framework/Resources/bin/R CMD INSTALL scDataviz StartedAt: 2025-10-13 16:59:52 -0400 (Mon, 13 Oct 2025) EndedAt: 2025-10-13 17:00:38 -0400 (Mon, 13 Oct 2025) EllapsedTime: 45.4 seconds RetCode: 0 Status: OK