Package: scDataviz Version: 1.18.0 Command: /Library/Frameworks/R.framework/Resources/bin/R CMD build --keep-empty-dirs --no-resave-data scDataviz StartedAt: 2025-10-14 08:36:01 -0400 (Tue, 14 Oct 2025) EndedAt: 2025-10-14 08:40:57 -0400 (Tue, 14 Oct 2025) EllapsedTime: 296.5 seconds RetCode: 0 Status: OK PackageFile: scDataviz_1.18.0.tar.gz PackageFileSize: 8.303 MiB