Package: scDataviz Version: 1.18.0 Command: rm -rf scDataviz.buildbin-libdir && mkdir scDataviz.buildbin-libdir && /Users/biocbuild/BBS/utils/build-universal.sh scDataviz_1.18.0.tar.gz /Library/Frameworks/R.framework/Resources/bin/R scDataviz.buildbin-libdir StartedAt: 2025-10-15 20:20:30 -0400 (Wed, 15 Oct 2025) EndedAt: 2025-10-15 20:21:21 -0400 (Wed, 15 Oct 2025) EllapsedTime: 51.0 seconds RetCode: 0 Status: OK PackageFile: scDataviz_1.18.0.tgz PackageFileSize: 5.39 MiB