Package: scDDboost Version: 1.10.0 Command: /home/biocbuild/bbs-3.21-bioc/R/bin/R CMD INSTALL scDDboost StartedAt: 2025-10-15 15:18:10 -0400 (Wed, 15 Oct 2025) EndedAt: 2025-10-15 15:19:09 -0400 (Wed, 15 Oct 2025) EllapsedTime: 59.7 seconds RetCode: 0 Status: OK