Package: scDDboost Version: 1.10.0 Command: rm -rf scDDboost.buildbin-libdir && mkdir scDDboost.buildbin-libdir && /Users/biocbuild/BBS/utils/build-universal.sh scDDboost_1.10.0.tar.gz /Library/Frameworks/R.framework/Resources/bin/R scDDboost.buildbin-libdir StartedAt: 2025-10-14 14:42:00 -0400 (Tue, 14 Oct 2025) EndedAt: 2025-10-14 14:44:40 -0400 (Tue, 14 Oct 2025) EllapsedTime: 160.2 seconds RetCode: 0 Status: OK PackageFile: scDDboost_1.10.0.tgz PackageFileSize: 992.4 KiB