Package: scDDboost Version: 1.10.0 Command: /home/biocbuild/R/R/bin/R CMD INSTALL scDDboost StartedAt: 2025-10-13 20:31:58 -0000 (Mon, 13 Oct 2025) EndedAt: 2025-10-13 20:33:32 -0000 (Mon, 13 Oct 2025) EllapsedTime: 93.8 seconds RetCode: 0 Status: OK