Package: scDDboost Version: 1.10.0 Command: /home/biocbuild/R/R/bin/R CMD build --keep-empty-dirs --no-resave-data scDDboost StartedAt: 2025-10-14 04:23:12 -0000 (Tue, 14 Oct 2025) EndedAt: 2025-10-14 04:26:02 -0000 (Tue, 14 Oct 2025) EllapsedTime: 170.2 seconds RetCode: 0 Status: OK PackageFile: scDDboost_1.10.0.tar.gz PackageFileSize: 823.7 KiB