Package: scClassify Version: 1.20.0 Command: /home/biocbuild/R/R/bin/R CMD build --keep-empty-dirs --no-resave-data scClassify StartedAt: 2025-10-14 04:22:13 -0000 (Tue, 14 Oct 2025) EndedAt: 2025-10-14 04:24:58 -0000 (Tue, 14 Oct 2025) EllapsedTime: 165.1 seconds RetCode: 0 Status: OK PackageFile: scClassify_1.20.0.tar.gz PackageFileSize: 3.027 MiB