Package: scCB2 Version: 1.17.0 Command: E:\biocbuild\bbs-3.21-bioc\R\bin\R.exe CMD check --no-multiarch --install=check:scCB2.install-out.txt --library=E:\biocbuild\bbs-3.21-bioc\R\library --no-vignettes --timings scCB2_1.17.0.tar.gz StartedAt: 2025-02-21 05:21:27 -0500 (Fri, 21 Feb 2025) EndedAt: 2025-02-21 05:29:34 -0500 (Fri, 21 Feb 2025) EllapsedTime: 486.8 seconds RetCode: 0 Status: OK CheckDir: scCB2.Rcheck Warnings: 0