Package: scCB2 Version: 1.17.0 Command: rm -rf scCB2.buildbin-libdir && mkdir scCB2.buildbin-libdir && E:\biocbuild\bbs-3.21-bioc\R\bin\R.exe CMD INSTALL --build --library=scCB2.buildbin-libdir scCB2_1.17.0.tar.gz StartedAt: 2025-02-21 09:01:04 -0500 (Fri, 21 Feb 2025) EndedAt: 2025-02-21 09:02:21 -0500 (Fri, 21 Feb 2025) EllapsedTime: 76.6 seconds RetCode: 0 Status: OK PackageFile: scCB2_1.17.0.zip PackageFileSize: 894.5 KiB