Package: scCB2 Version: 1.17.0 Command: /home/biocbuild/bbs-3.21-bioc/R/bin/R CMD INSTALL scCB2 StartedAt: 2025-02-20 15:50:35 -0500 (Thu, 20 Feb 2025) EndedAt: 2025-02-20 15:51:15 -0500 (Thu, 20 Feb 2025) EllapsedTime: 40.2 seconds RetCode: 0 Status: OK