Package: scCB2 Version: 1.17.0 Command: /home/biocbuild/bbs-3.21-bioc/R/bin/R CMD build --keep-empty-dirs --no-resave-data scCB2 StartedAt: 2025-02-20 19:07:07 -0500 (Thu, 20 Feb 2025) EndedAt: 2025-02-20 19:10:38 -0500 (Thu, 20 Feb 2025) EllapsedTime: 211.2 seconds RetCode: 0 Status: OK PackageFile: scCB2_1.17.0.tar.gz PackageFileSize: 847.3 KiB