Package: scCB2 Version: 1.17.0 Command: /Library/Frameworks/R.framework/Resources/bin/R CMD build --keep-empty-dirs --no-resave-data scCB2 StartedAt: 2025-02-20 18:07:16 -0500 (Thu, 20 Feb 2025) EndedAt: 2025-02-20 18:11:18 -0500 (Thu, 20 Feb 2025) EllapsedTime: 242.3 seconds RetCode: 0 Status: OK PackageFile: scCB2_1.17.0.tar.gz PackageFileSize: 847.1 KiB