Package: scBFA Version: 1.21.0 Command: /Library/Frameworks/R.framework/Resources/bin/R CMD INSTALL scBFA StartedAt: 2025-02-18 15:33:52 -0500 (Tue, 18 Feb 2025) EndedAt: 2025-02-18 15:34:52 -0500 (Tue, 18 Feb 2025) EllapsedTime: 59.9 seconds RetCode: 0 Status: OK