Package: scBFA Version: 1.21.0 Command: /Library/Frameworks/R.framework/Resources/bin/R CMD check --install=check:scBFA.install-out.txt --library=/Library/Frameworks/R.framework/Resources/library --no-vignettes --timings scBFA_1.21.0.tar.gz StartedAt: 2025-02-18 21:16:54 -0500 (Tue, 18 Feb 2025) EndedAt: 2025-02-18 21:18:59 -0500 (Tue, 18 Feb 2025) EllapsedTime: 125.5 seconds RetCode: 0 Status: OK CheckDir: scBFA.Rcheck Warnings: 0