Package: scAnnotatR Version: 1.13.0 Command: /home/biocbuild/bbs-3.21-bioc/R/bin/R CMD INSTALL scAnnotatR StartedAt: 2025-02-20 15:34:48 -0500 (Thu, 20 Feb 2025) EndedAt: 2025-02-20 15:35:33 -0500 (Thu, 20 Feb 2025) EllapsedTime: 45.7 seconds RetCode: 0 Status: OK