Package: scAnnotatR Version: 1.13.0 Command: /home/biocbuild/bbs-3.21-bioc/R/bin/R CMD build --keep-empty-dirs --no-resave-data scAnnotatR StartedAt: 2025-02-20 19:05:51 -0500 (Thu, 20 Feb 2025) EndedAt: 2025-02-20 19:15:25 -0500 (Thu, 20 Feb 2025) EllapsedTime: 574.7 seconds RetCode: 0 Status: OK PackageFile: scAnnotatR_1.13.0.tar.gz PackageFileSize: 562.4 KiB