Package: scAnnotatR Version: 1.13.0 Command: /Library/Frameworks/R.framework/Resources/bin/R CMD INSTALL scAnnotatR StartedAt: 2025-02-20 15:36:40 -0500 (Thu, 20 Feb 2025) EndedAt: 2025-02-20 15:37:45 -0500 (Thu, 20 Feb 2025) EllapsedTime: 65.6 seconds RetCode: 0 Status: OK