Package: scAnnotatR Version: 1.13.0 Command: /Library/Frameworks/R.framework/Resources/bin/R CMD check --install=check:scAnnotatR.install-out.txt --library=/Library/Frameworks/R.framework/Resources/library --no-vignettes --timings scAnnotatR_1.13.0.tar.gz StartedAt: 2025-02-20 22:59:37 -0500 (Thu, 20 Feb 2025) EndedAt: 2025-02-20 23:07:09 -0500 (Thu, 20 Feb 2025) EllapsedTime: 452.5 seconds RetCode: 0 Status: WARNINGS CheckDir: scAnnotatR.Rcheck Warnings: 1