Package: scAnnotatR Version: 1.13.0 Command: rm -rf scAnnotatR.buildbin-libdir && mkdir scAnnotatR.buildbin-libdir && /Users/biocbuild/BBS/utils/build-universal.sh scAnnotatR_1.13.0.tar.gz /Library/Frameworks/R.framework/Resources/bin/R scAnnotatR.buildbin-libdir StartedAt: 2025-02-21 00:51:20 -0500 (Fri, 21 Feb 2025) EndedAt: 2025-02-21 00:52:30 -0500 (Fri, 21 Feb 2025) EllapsedTime: 69.3 seconds RetCode: 0 Status: OK PackageFile: scAnnotatR_1.13.0.tgz PackageFileSize: 1.032 MiB