Package: scAnnotatR Version: 1.13.0 Command: /Library/Frameworks/R.framework/Resources/bin/R CMD build --keep-empty-dirs --no-resave-data scAnnotatR StartedAt: 2025-02-20 17:29:07 -0500 (Thu, 20 Feb 2025) EndedAt: 2025-02-20 17:33:56 -0500 (Thu, 20 Feb 2025) EllapsedTime: 289.2 seconds RetCode: 0 Status: OK PackageFile: scAnnotatR_1.13.0.tar.gz PackageFileSize: 582.5 KiB